BEGIN:VCALENDAR
PRODID:-//github.com/rianjs/ical.net//NONSGML ical.net 4.0//EN
VERSION:2.0
BEGIN:VEVENT
DESCRIPTION:Im Rahmen des Burgfestes in Gustavsburg bietet der ADFC Kreis 
 Groß-Gerau Fahrradcodierungen an.\nhttps://touren-termine.adfc.de/radvera
 nstaltung/167233-fahrradcodierung-gustavsburg
DTEND:20250608T150000Z
DTSTAMP:20260421T155034Z
DTSTART:20250608T090000Z
LOCATION:Burgfest\, Auf der Mainspitze\, 65462 Ginsheim-Gustavsburg
SEQUENCE:0
SUMMARY:Fahrradcodierung Gustavsburg
UID:f0f46b1d-ac33-407c-b6bc-d99f041d3f80
URL:https://touren-termine.adfc.de/radveranstaltung/167233-fahrradcodierun
 g-gustavsburg
END:VEVENT
END:VCALENDAR
