BEGIN:VCALENDAR
PRODID:-//github.com/rianjs/ical.net//NONSGML ical.net 4.0//EN
VERSION:2.0
BEGIN:VEVENT
DESCRIPTION:Alle\, die in der Stadt Essen wohnen\, arbeiten\, einem Verein
  angehören oder eine (Hoch-)Schule besuchen\, können beim STADTRADELN mit
 machen.\nhttps://touren-termine.adfc.de/radveranstaltung/132032-stadtrade
 ln-essen-2024
DTEND;VALUE=DATE:20240524
DTSTAMP:20260421T101154Z
DTSTART;VALUE=DATE:20240504
LOCATION:Essen\, 45127 Essen
SEQUENCE:0
SUMMARY:STADTRADELN Essen 2024
UID:59174913-6349-4c02-b746-bc7e258d30e0
URL:https://touren-termine.adfc.de/radveranstaltung/132032-stadtradeln-ess
 en-2024
END:VEVENT
END:VCALENDAR
