BEGIN:VCALENDAR
PRODID:-//github.com/rianjs/ical.net//NONSGML ical.net 4.0//EN
VERSION:2.0
BEGIN:VEVENT
DESCRIPTION:Kleine Tour von 20 km zu drei Gärten im Rahmen der Offenen Gar
 tenpforten\nhttps://touren-termine.adfc.de/radveranstaltung/101998-offene
 n-gartenpforten
DTEND:20230702T150000Z
DTSTAMP:20260421T100958Z
DTSTART:20230702T090000Z
LOCATION:Beuel Kennedybrücke Südseite\, 53225 Bonn
SEQUENCE:0
SUMMARY:Offenen Gartenpforten
UID:c450b6f8-f84a-4b96-ab9a-c7f365c7eaf7
URL:https://touren-termine.adfc.de/radveranstaltung/101998-offenen-gartenp
 forten
END:VEVENT
END:VCALENDAR
