BEGIN:VCALENDAR
PRODID:-//github.com/rianjs/ical.net//NONSGML ical.net 4.0//EN
VERSION:2.0
BEGIN:VEVENT
DESCRIPTION:Jeden Montag findet morgens eine Radtour statt.\nhttps://toure
 n-termine.adfc.de/radveranstaltung/147702-montag-morgen-tour
DTEND:20250106T110000Z
DTSTAMP:20260423T201857Z
DTSTART:20250106T090000Z
LOCATION:In der Ahe 29\, 27356 Rotenburg
SEQUENCE:0
SUMMARY:Montag Morgen Tour
UID:6e1a1284-9d13-4fcc-8c44-d900920cf851
URL:https://touren-termine.adfc.de/radveranstaltung/147702-montag-morgen-t
 our
END:VEVENT
END:VCALENDAR
