BEGIN:VCALENDAR
PRODID:-//github.com/rianjs/ical.net//NONSGML ical.net 4.0//EN
VERSION:2.0
BEGIN:VEVENT
DESCRIPTION:Wie der Name der Region schon verrät\, prägen hier die zwei Fl
 üsse die Landschaft - die Aller und die Leine\nIndividuelle Anreise\nAnme
 ldeschluss 25.07.2025\nhttps://touren-termine.adfc.de/radveranstaltung/15
 1101-im-allerleinetal-anmeldeschluss-25072025
DTEND:20250727T150000Z
DTSTAMP:20260421T114934Z
DTSTART:20250727T080000Z
LOCATION:Hodenhagen Bahnhofstraße\, 29693 Heidekreis
SEQUENCE:0
SUMMARY:Im Aller-Leinetal   Anmeldeschluss 25.07.2025
UID:760fc38e-7381-43df-b4df-6eb4501547f0
URL:https://touren-termine.adfc.de/radveranstaltung/151101-im-allerleineta
 l-anmeldeschluss-25072025
END:VEVENT
END:VCALENDAR
