BEGIN:VCALENDAR
PRODID:-//github.com/rianjs/ical.net//NONSGML ical.net 4.0//EN
VERSION:2.0
BEGIN:VEVENT
DESCRIPTION:Sichern Sie ihr Fahrrad oder Pedelec vor Diebstahl. Schützen S
 ie Ihr Eigentum und machen Sie ihre Zweiräder durch die Codierung der Pol
 izei für Diebe "unattraktiv".\nhttps://touren-termine.adfc.de/radveransta
 ltung/125745-fahrradcodierungen-herzogenplatz-uelzen
DTEND:20240904T120000Z
DTSTAMP:20260424T160527Z
DTSTART:20240904T080000Z
LOCATION:Herzogenplatz 2\, 29525 Uelzen
SEQUENCE:0
SUMMARY:Fahrradcodierungen Herzogenplatz Uelzen
UID:945692be-97e4-4f1f-a86d-b7ad2d0fbb44
URL:https://touren-termine.adfc.de/radveranstaltung/125745-fahrradcodierun
 gen-herzogenplatz-uelzen
END:VEVENT
END:VCALENDAR
