BEGIN:VCALENDAR
PRODID:-//github.com/rianjs/ical.net//NONSGML ical.net 4.0//EN
VERSION:2.0
BEGIN:VEVENT
DESCRIPTION:Wir fahren zum Köln-Kalker Friedhof\, Kratzweg\, und verabschi
 eden uns von Ulrike\, die mit ihrem Mann Manni\, ein langjähriges Mitglie
 d im ADFC\, die Radfahrschule Berg. Gladbach gegründet hat.\nhttps://tour
 en-termine.adfc.de/radveranstaltung/180461-zur-beerdigung-von-ulrike-hora
 tz
DTEND:20251218T110000Z
DTSTAMP:20260423T151800Z
DTSTART:20251218T100000Z
LOCATION:Bahnhof Köln-Deutz\, Ottoplatz 7\, 50679 Köln
SEQUENCE:0
SUMMARY:Zur Beerdigung von Ulrike Horatz
UID:ab49c2cc-ab8f-472f-9cbf-a8e28541a86c
URL:https://touren-termine.adfc.de/radveranstaltung/180461-zur-beerdigung-
 von-ulrike-horatz
END:VEVENT
END:VCALENDAR
