BEGIN:VCALENDAR
PRODID:-//github.com/rianjs/ical.net//NONSGML ical.net 4.0//EN
VERSION:2.0
BEGIN:VEVENT
DESCRIPTION:Gemütliche Tour für jedermann\nhttps://touren-termine.adfc.de/
 radveranstaltung/198216-adfc-sternfahrt-von-langenfeld-nach-dusseldorf
DTEND:20260503T170000Z
DTSTAMP:20260423T065202Z
DTSTART:20260503T100000Z
LOCATION:Marktplatz (vor der Stadthalle)\, 40764 Langenfeld (Rheinland)
SEQUENCE:0
SUMMARY:ADFC Sternfahrt von Langenfeld nach Düsseldorf
UID:e562f3cb-d96c-4dc4-9296-707bbca29137
URL:https://touren-termine.adfc.de/radveranstaltung/198216-adfc-sternfahrt
 -von-langenfeld-nach-dusseldorf
END:VEVENT
END:VCALENDAR
