BEGIN:VCALENDAR
PRODID:-//github.com/rianjs/ical.net//NONSGML ical.net 4.0//EN
VERSION:2.0
BEGIN:VEVENT
DESCRIPTION:Zur Trupbacher Heide durch die Hermelsbach und über die Panzer
 staße. Rundfahrt auf der Heide und Abfahrt auf Asphalt nach Trupbach.\nht
 tps://touren-termine.adfc.de/radveranstaltung/104797-feierabendtour-siege
 n-zur-heideblute
DTEND:20230801T173000Z
DTSTAMP:20260422T234415Z
DTSTART:20230801T160000Z
LOCATION:Jakob-Scheiner-Platz\, 57072 Siegen
SEQUENCE:0
SUMMARY:Feierabendtour Siegen: zur Heideblüte
UID:ed505837-abd2-446f-a1fd-9e562fe2848f
URL:https://touren-termine.adfc.de/radveranstaltung/104797-feierabendtour-
 siegen-zur-heideblute
END:VEVENT
END:VCALENDAR
