BEGIN:VCALENDAR
PRODID:-//github.com/rianjs/ical.net//NONSGML ical.net 4.0//EN
VERSION:2.0
BEGIN:VEVENT
DESCRIPTION:Vor dem Radlerstammtisch treffen sich die Aktiven und die Vors
 tandschaft.\nhttps://touren-termine.adfc.de/radveranstaltung/174100-aktiv
 entreff
DTEND:20261203T180000Z
DTSTAMP:20260419T160005Z
DTSTART:20261203T170000Z
LOCATION:Gasthaus Belfort\, Mindelheimer Straße 35\, 87600 Kaufbeuren
SEQUENCE:0
SUMMARY:Aktiventreff
UID:a1785b5e-8579-4005-b353-f403a3c0c1b4
URL:https://touren-termine.adfc.de/radveranstaltung/174100-aktiventreff
END:VEVENT
END:VCALENDAR
