BEGIN:VCALENDAR
PRODID:-//github.com/rianjs/ical.net//NONSGML ical.net 4.0//EN
VERSION:2.0
BEGIN:VEVENT
DESCRIPTION:Beim heutigen Radlertreff kommen wir mit Maja Wehrmann und Thi
 lo Schnor\, den Spitzenkandidaten von B90 / Die Grünen zur Kommunalwahl 2
 025\, ins Gespräch.\nhttps://touren-termine.adfc.de/radveranstaltung/1695
 99-radlertreff-solingen-september-b90die-grunen
DTEND:20250909T190000Z
DTSTAMP:20260421T172616Z
DTSTART:20250909T173000Z
LOCATION:Locher Straße 17\, 42719 Solingen
SEQUENCE:0
SUMMARY:Radlertreff Solingen - September B90/Die Grünen
UID:6590dfff-e7cb-4b2a-898b-7df45a9a0862
URL:https://touren-termine.adfc.de/radveranstaltung/169599-radlertreff-sol
 ingen-september-b90die-grunen
END:VEVENT
END:VCALENDAR
