BEGIN:VCALENDAR
PRODID:-//github.com/rianjs/ical.net//NONSGML ical.net 4.0//EN
VERSION:2.0
BEGIN:VEVENT
DESCRIPTION:Treffen der AG Verkehr des ADFC Bochum\nhttps://touren-termine
 .adfc.de/radveranstaltung/152907-ag-verkehr
DTEND:20251204T193000Z
DTSTAMP:20260420T150800Z
DTSTART:20251204T173000Z
LOCATION:Alsenstraße 27\, 44789 Bochum
SEQUENCE:0
SUMMARY:AG Verkehr
UID:37d4dba2-d9a0-4778-9064-d2560e705409
URL:https://touren-termine.adfc.de/radveranstaltung/152907-ag-verkehr
END:VEVENT
END:VCALENDAR
