BEGIN:VCALENDAR
PRODID:-//github.com/rianjs/ical.net//NONSGML ical.net 4.0//EN
VERSION:2.0
BEGIN:VEVENT
DESCRIPTION:Interessierte Fahrradfreunde sind zum Aktiventreffen herzlich 
 willkommen!\nhttps://touren-termine.adfc.de/radveranstaltung/149912-adfc-
 aktiventreffen
DTEND:20250717T183000Z
DTSTAMP:20260420T150341Z
DTSTART:20250717T163000Z
LOCATION:Alsenstraße 27\, 44789 Bochum
SEQUENCE:0
SUMMARY:ADFC Aktiventreffen
UID:6ae50ec4-6924-4218-b6cb-dd9e11b7ba67
URL:https://touren-termine.adfc.de/radveranstaltung/149912-adfc-aktiventre
 ffen
END:VEVENT
END:VCALENDAR
