BEGIN:VCALENDAR
PRODID:-//github.com/rianjs/ical.net//NONSGML ical.net 4.0//EN
VERSION:2.0
BEGIN:VEVENT
DESCRIPTION:Wir bieten verschiedene Strecken zwischen 25 km und 35 km Läng
 e mit einer Fahrtdauer von ca. 2 Stunden an.\nhttps://touren-termine.adfc
 .de/radveranstaltung/144792-feierabendtour-parkplatz-donauarena
DTEND:20250521T190000Z
DTSTAMP:20260421T143945Z
DTSTART:20250521T160000Z
LOCATION:Parkplatz Donau-Arena\, Walhalla-Allee\, 93055 Regensburg
SEQUENCE:0
SUMMARY:Feierabendtour: Parkplatz Donau-Arena
UID:2b9ac9a7-7ca0-4482-8e30-a25731746612
URL:https://touren-termine.adfc.de/radveranstaltung/144792-feierabendtour-
 parkplatz-donauarena
END:VEVENT
END:VCALENDAR
