BEGIN:VCALENDAR
PRODID:-//github.com/rianjs/ical.net//NONSGML ical.net 4.0//EN
VERSION:2.0
BEGIN:VEVENT
DESCRIPTION:Winterprogramm in Gauting: Eisbärtouren bei trockenem und schö
 nem Wetter von 11 bis 15 Uhr mit mittäglicher Einkehr.\nHeute: Durch das 
 Moos nach Starnberg\, zurück über Gut Rieden\nhttps://touren-termine.adfc
 .de/radveranstaltung/160779-eisbartour-in-gauting
DTEND:20250320T140000Z
DTSTAMP:20260425T145606Z
DTSTART:20250320T100000Z
LOCATION:Rathaus\, Bahnhofstraße 7\, 82131 Gauting
SEQUENCE:0
SUMMARY:Eisbär-Tour in Gauting
UID:a753f70a-79d2-4f67-b9ea-9abfd1e11cde
URL:https://touren-termine.adfc.de/radveranstaltung/160779-eisbartour-in-g
 auting
END:VEVENT
END:VCALENDAR
