BEGIN:VCALENDAR
PRODID:-//github.com/rianjs/ical.net//NONSGML ical.net 4.0//EN
VERSION:2.0
BEGIN:VEVENT
DESCRIPTION:Von Hangelsberg über Klein Wall durch das wild-romantische Löc
 knitztal. Am schönen Flakensee entlang zu unserem Ziel Wolterdorf.\nhttps
 ://touren-termine.adfc.de/radveranstaltung/119021-wanderung-durch-das-loc
 knitztal
DTEND:20240121T160000Z
DTSTAMP:20260424T231125Z
DTSTART:20240121T075000Z
LOCATION:Bhf. Berlin\, Zoologischer Garten\, Gl. 2\, 10623 Berlin
SEQUENCE:0
SUMMARY:WANDERUNG durch das Löcknitztal
UID:1437a76f-d481-451f-bd3a-2d761174f52d
URL:https://touren-termine.adfc.de/radveranstaltung/119021-wanderung-durch
 -das-locknitztal
END:VEVENT
END:VCALENDAR
