BEGIN:VCALENDAR
PRODID:-//github.com/rianjs/ical.net//NONSGML ical.net 4.0//EN
VERSION:2.0
BEGIN:VEVENT
DESCRIPTION:Die Tour ist für Radler ohne Unterstützung und gemütlich fahre
 nde E-Biker\nDie Strecken werden je nach Wetterlage kurzfristig festgeleg
 t\nEinkehr unterwegs oder in Forchheim\nhttps://touren-termine.adfc.de/ra
 dveranstaltung/113286-radler-ohne-unterstutzung-und-ebiker
DTEND:20240613T150000Z
DTSTAMP:20260421T101055Z
DTSTART:20240613T120000Z
LOCATION:Nürnberger Tor\, 91301 Forchheim
SEQUENCE:0
SUMMARY:Radler ohne Unterstützung und E-Biker
UID:be70029c-a7bb-4afc-a9b8-1f2f33c95634
URL:https://touren-termine.adfc.de/radveranstaltung/113286-radler-ohne-unt
 erstutzung-und-ebiker
END:VEVENT
END:VCALENDAR
