BEGIN:VCALENDAR
PRODID:-//github.com/rianjs/ical.net//NONSGML ical.net 4.0//EN
VERSION:2.0
BEGIN:VEVENT
DESCRIPTION:Beim Globetrotter Freiluft Testival am Fühlinger See sind wir 
 mit einem Infostand dabei!\nhttps://touren-termine.adfc.de/radveranstaltu
 ng/164287-adfcinfostand-beim-globetrotter-freiluft-testival
DTEND:20250427T160000Z
DTSTAMP:20260421T102708Z
DTSTART:20250427T080000Z
LOCATION:Blackfoot Beach\, Fühlinger See\, 50769 Köln
SEQUENCE:0
SUMMARY:ADFC-Infostand beim Globetrotter Freiluft Testival
UID:c5496461-55f2-4484-9486-73b06d5cc413
URL:https://touren-termine.adfc.de/radveranstaltung/164287-adfcinfostand-b
 eim-globetrotter-freiluft-testival
END:VEVENT
END:VCALENDAR
