BEGIN:VCALENDAR
PRODID:-//github.com/rianjs/ical.net//NONSGML ical.net 4.0//EN
VERSION:2.0
BEGIN:VEVENT
DESCRIPTION:GEMEINSAM für Stadtradeln/Sternfahrt! Am Samstag\, 10. Mai inf
 ormieren "StadtLangenhagen" und "ADFCLangenhagen" über das STADTRADELN ab
  Sonntag\, 18. Mai 2025 <= ADFC-Sternfahrt!\nhttps://touren-termine.adfc.
 de/radveranstaltung/162506-info-stadtradelnsternfahrt-auf-dem-markt-
DTEND:20250510T110000Z
DTSTAMP:20260424T173129Z
DTSTART:20250510T070000Z
LOCATION:Markt-Doppel-Infostand auf dem Marktplatz 1\, 30853 Langenhagen
SEQUENCE:0
SUMMARY:Info "Stadtradeln"/"Sternfahrt" auf dem Markt ⓇⓈ
UID:6be67d04-a4c7-41d6-a181-0a2c12879273
URL:https://touren-termine.adfc.de/radveranstaltung/162506-info-stadtradel
 nsternfahrt-auf-dem-markt-
END:VEVENT
END:VCALENDAR
