BEGIN:VCALENDAR
PRODID:-//github.com/rianjs/ical.net//NONSGML ical.net 4.0//EN
VERSION:2.0
BEGIN:VEVENT
DESCRIPTION:30 - 35 km\nhttps://touren-termine.adfc.de/radveranstaltung/14
 2585-kurztour
DTEND:20250528T180000Z
DTSTAMP:20260423T105554Z
DTSTART:20250528T160000Z
LOCATION:Rathaus\, Fuhrberger Straße 3\, 30938 Burgwedel
SEQUENCE:0
SUMMARY:Kurztour
UID:256b600f-8070-488e-9c6a-17a0eb4d940a
URL:https://touren-termine.adfc.de/radveranstaltung/142585-kurztour
END:VEVENT
END:VCALENDAR
