BEGIN:VCALENDAR
PRODID:-//github.com/rianjs/ical.net//NONSGML ical.net 4.0//EN
VERSION:2.0
BEGIN:VEVENT
DESCRIPTION:Unsere Geschäftsstelle ist für alle Anliegen und offenen Frage
 n geöffnet.\nhttps://touren-termine.adfc.de/radveranstaltung/130324-offnu
 ngszeit-unserer-geschaftsstelle
DTEND:20241212T170000Z
DTSTAMP:20260421T121006Z
DTSTART:20241212T150000Z
LOCATION:Essen (Innenstadt)\, ADFC Essen Geschäftsstelle\, Rottstraße 5\, 
 45127 Essen
SEQUENCE:0
SUMMARY:Öffnungszeit unserer Geschäftsstelle
UID:b42ea97b-78e5-4f69-a657-071f634c7a82
URL:https://touren-termine.adfc.de/radveranstaltung/130324-offnungszeit-un
 serer-geschaftsstelle
END:VEVENT
END:VCALENDAR
