BEGIN:VCALENDAR
PRODID:-//github.com/rianjs/ical.net//NONSGML ical.net 4.0//EN
VERSION:2.0
BEGIN:VEVENT
DESCRIPTION:Geschichtstour für Neubürger und weitere Wissbegierige durch S
 chulau\nhttps://touren-termine.adfc.de/radveranstaltung/175059-neugierig-
 geschichtstour-industrie-an-der-elbe
DTEND:20260426T110000Z
DTSTAMP:20260419T182018Z
DTSTART:20260426T080000Z
LOCATION:S-Bahnhof Wedel\, 22880 Wedel
SEQUENCE:0
SUMMARY:Neu(gierig)? Geschichtstour: Industrie an der Elbe
UID:4dcb4b74-4eb4-48ed-9101-7bd6e139db3b
URL:https://touren-termine.adfc.de/radveranstaltung/175059-neugierig-gesch
 ichtstour-industrie-an-der-elbe
END:VEVENT
END:VCALENDAR
