BEGIN:VCALENDAR
PRODID:-//github.com/rianjs/ical.net//NONSGML ical.net 4.0//EN
VERSION:2.0
BEGIN:VEVENT
DESCRIPTION:Die letzte Radtour im Jahr 2025 durch Cuxhaven.\nhttps://toure
 n-termine.adfc.de/radveranstaltung/154770-abradeln-2025
DTEND:20251228T130000Z
DTSTAMP:20260421T053137Z
DTSTART:20251228T100000Z
LOCATION:Am Bahnhof 1\, 27472 Cuxhaven
SEQUENCE:0
SUMMARY:Abradeln 2025
UID:d5d75a10-3668-401c-a380-9b6e7990f3ec
URL:https://touren-termine.adfc.de/radveranstaltung/154770-abradeln-2025
END:VEVENT
END:VCALENDAR
