BEGIN:VCALENDAR
PRODID:-//github.com/rianjs/ical.net//NONSGML ical.net 4.0//EN
VERSION:2.0
BEGIN:VEVENT
DESCRIPTION:Neuer Termin am Wochenende! Für Eltern und Großeltern mit Kind
 erradanhänger + 1-2 Kindern . Wir fahren zu Spielplätzen und für Kinder i
 nteressante Spots. Anmeld. bis Do 28.08.2025\nhttps://touren-termine.adfc
 .de/radveranstaltung/148093-terminanderung-elternkindradeln-mit-radanhang
 er
DTEND:20250831T110000Z
DTSTAMP:20260419T193300Z
DTSTART:20250831T070000Z
LOCATION:Bahnhofsvorplatz\, 87600 Kaufbeuren
SEQUENCE:0
SUMMARY:Terminänderung! Eltern-Kind-Radeln mit Radanhänger
UID:09788712-1892-4a96-a749-1a9440ca8c6e
URL:https://touren-termine.adfc.de/radveranstaltung/148093-terminanderung-
 elternkindradeln-mit-radanhanger
END:VEVENT
END:VCALENDAR
