BEGIN:VCALENDAR
PRODID:-//github.com/rianjs/ical.net//NONSGML ical.net 4.0//EN
VERSION:2.0
BEGIN:VEVENT
DESCRIPTION:Ein Ausflug in`s Erdinger Hinterland\nhttps://touren-termine.a
 dfc.de/radveranstaltung/196962-wartenberg
DTEND:20260621T140000Z
DTSTAMP:20260421T100752Z
DTSTART:20260621T064000Z
LOCATION:Bike & Ride Fahrradparkhaus\, 85221 Dachau
SEQUENCE:0
SUMMARY:Wartenberg
UID:7ce3baf1-43e7-4f8b-874f-4109a0f5edad
URL:https://touren-termine.adfc.de/radveranstaltung/196962-wartenberg
END:VEVENT
END:VCALENDAR
