BEGIN:VCALENDAR
PRODID:-//github.com/rianjs/ical.net//NONSGML ical.net 4.0//EN
VERSION:2.0
BEGIN:VEVENT
DESCRIPTION:Von Hameln über Coppenbrügge nach Ockensen\, Einkehr im Hofcaf
 é der Mosterei\, anschließend zurück.\nhttps://touren-termine.adfc.de/rad
 veranstaltung/180398-auf-nach-ockensen
DTEND:20260613T160000Z
DTSTAMP:20260423T141825Z
DTSTART:20260613T080000Z
LOCATION:Sudetenstraße 1\, 31785 Hameln
SEQUENCE:0
SUMMARY:Auf nach Ockensen
UID:70f47a26-d52a-4c26-b3fd-b2f4bf6fbd0a
URL:https://touren-termine.adfc.de/radveranstaltung/180398-auf-nach-ockens
 en
END:VEVENT
END:VCALENDAR
