BEGIN:VCALENDAR
PRODID:-//github.com/rianjs/ical.net//NONSGML ical.net 4.0//EN
VERSION:2.0
BEGIN:VEVENT
DESCRIPTION:Interessante Tour zu Solawi Akazienhof\nhttps://touren-termine
 .adfc.de/radveranstaltung/181664-interessante-tour-zu-solawi-akazienhof
DTEND:20260725T130000Z
DTSTAMP:20260425T172850Z
DTSTART:20260725T080000Z
LOCATION:Festplatzstraße 7\, 67433 Neustadt an der Weinstraße
SEQUENCE:0
SUMMARY:Interessante Tour zu Solawi Akazienhof
UID:68a12238-2ffc-4b5e-b8fd-f04c4c88b13e
URL:https://touren-termine.adfc.de/radveranstaltung/181664-interessante-to
 ur-zu-solawi-akazienhof
END:VEVENT
END:VCALENDAR
