BEGIN:VCALENDAR
PRODID:-//github.com/rianjs/ical.net//NONSGML ical.net 4.0//EN
VERSION:2.0
BEGIN:VEVENT
DESCRIPTION:Fahrradcodierung im Rahmen der Saisoneröffnung von 14-17 Uhr i
 m Infoladen in der Heroldstraße 2\, 90408 Nürnberg\nMelde dich jetzt an\,
  sichere dir einen Termin und erspare dir eine Wartezeit vor Ort!\nhttps:
 //touren-termine.adfc.de/radveranstaltung/185485-fahrradcodierung-herolds
 trasse-2-90408-nurnberg
DTEND:20260411T150000Z
DTSTAMP:20260423T165855Z
DTSTART:20260411T120000Z
LOCATION:Heroldstraße 2\, 90408 Nürnberg
SEQUENCE:0
SUMMARY:Fahrradcodierung Heroldstraße 2\, 90408 Nürnberg
UID:5afc929e-e690-4f7e-b719-b404833b053a
URL:https://touren-termine.adfc.de/radveranstaltung/185485-fahrradcodierun
 g-heroldstrasse-2-90408-nurnberg
END:VEVENT
END:VCALENDAR
