BEGIN:VCALENDAR
PRODID:-//github.com/rianjs/ical.net//NONSGML ical.net 4.0//EN
VERSION:2.0
BEGIN:VEVENT
DESCRIPTION:Das Ziel der Tour wird zu Beginn bekanntgegeben. Anschließend 
 Gelegenheit zur gemeinsamen Einkehr.\nhttps://touren-termine.adfc.de/radv
 eranstaltung/150765-feierabendtour
DTEND:20250418T160000Z
DTSTAMP:20260421T101056Z
DTSTART:20250418T160000Z
LOCATION: Rheidt\, kath. Kirche\, Hoher Rain 27\, 53859 Niederkassel
SEQUENCE:0
SUMMARY:Feierabendtour
UID:fb617233-8b38-4b31-a2ed-c582d82f5f5a
URL:https://touren-termine.adfc.de/radveranstaltung/150765-feierabendtour
END:VEVENT
END:VCALENDAR
