BEGIN:VCALENDAR
PRODID:-//github.com/rianjs/ical.net//NONSGML ical.net 4.0//EN
VERSION:2.0
BEGIN:VEVENT
DESCRIPTION:Wir bieten verschiedene Strecken zwischen 25 km und 35 km Läng
 e mit einer Fahrtdauer von ca. 2 Stunden an.\nhttps://touren-termine.adfc
 .de/radveranstaltung/178401-feierabendtour-parkplatz-donauarena
DTEND:20260520T190000Z
DTSTAMP:20260422T083543Z
DTSTART:20260520T160000Z
LOCATION:Parkplatz Donau-Arena\, Walhalla-Allee\, 93055 Regensburg
SEQUENCE:0
SUMMARY:Feierabendtour: Parkplatz Donau-Arena
UID:447309cb-858a-4219-8f1a-60c3a81e1375
URL:https://touren-termine.adfc.de/radveranstaltung/178401-feierabendtour-
 parkplatz-donauarena
END:VEVENT
END:VCALENDAR
