BEGIN:VCALENDAR
PRODID:-//github.com/rianjs/ical.net//NONSGML ical.net 4.0//EN
VERSION:2.0
BEGIN:VEVENT
DESCRIPTION:Eine anspruchsvolle Tour für Pedelec-Fahrer und Radfahrer mit 
 guter Kondition.  Bei schlechtem Wetter oder Regen findet die Tour nicht 
 statt.\nhttps://touren-termine.adfc.de/radveranstaltung/169215-nachmittag
 stour-ab-refrath
DTEND:20250724T160000Z
DTSTAMP:20260423T151932Z
DTSTART:20250724T133000Z
LOCATION:Peter-Bürling-Platz\, 51427 Bergisch Gladbach
SEQUENCE:0
SUMMARY:Nachmittagstour ab Refrath
UID:0bd871a9-5a3e-41d2-af6b-09ab1e840e07
URL:https://touren-termine.adfc.de/radveranstaltung/169215-nachmittagstour
 -ab-refrath
END:VEVENT
END:VCALENDAR
