BEGIN:VCALENDAR
PRODID:-//github.com/rianjs/ical.net//NONSGML ical.net 4.0//EN
VERSION:2.0
BEGIN:VEVENT
DESCRIPTION:Bis zur Umstellung der Sommerzeit\, Ende Oktober\, starten wir
  jeden Dienstag um 18 Uhr vom Hildegardplatz in Kempten zu einer kleinen 
 Feierabendrunde. Wir freuen uns über alte und neue Teilnehmer.\nhttps://t
 ouren-termine.adfc.de/radveranstaltung/98224-feierabendradeln
DTEND:20231010T180000Z
DTSTAMP:20260424T144839Z
DTSTART:20231010T160000Z
LOCATION:Hildegardplatz\, 87435 Kempten (Allgäu)
SEQUENCE:0
SUMMARY:Feierabendradeln
UID:625f9012-a0df-4220-a346-afcd8b91ef10
URL:https://touren-termine.adfc.de/radveranstaltung/98224-feierabendradeln
END:VEVENT
END:VCALENDAR
