BEGIN:VCALENDAR
PRODID:-//github.com/rianjs/ical.net//NONSGML ical.net 4.0//EN
VERSION:2.0
BEGIN:VEVENT
DESCRIPTION:Jeden ersten Mittwoch im Monat treffen wir uns zum Austausch u
 nd zur politischen Arbeit für den Radverkehr in Fürth und dem Landkreis. 
 Schaut gerne mal rein und seid dabei\, wir freuen uns auf euch.\nhttps://
 touren-termine.adfc.de/radveranstaltung/197891-offener-monatstreff-adfc-f
 urth
DTEND:20260506T200000Z
DTSTAMP:20260423T200817Z
DTSTART:20260506T170000Z
LOCATION:Herr & Kaiser\, Kaiserstraße 89\, 90763 Fürth
SEQUENCE:0
SUMMARY:Offener Monatstreff ADFC Fürth
UID:1d0b87ff-dac3-416d-a285-5f6d6ac8a6a5
URL:https://touren-termine.adfc.de/radveranstaltung/197891-offener-monatst
 reff-adfc-furth
END:VEVENT
END:VCALENDAR
