BEGIN:VCALENDAR
PRODID:-//github.com/rianjs/ical.net//NONSGML ical.net 4.0//EN
VERSION:2.0
BEGIN:VEVENT
DESCRIPTION:Wir treffen uns jeden ersten Donnerstag eines Monats (außer Au
 gust) um 19:00 Uhr im Gasthaus Belfort in Kaufbeuren\, Mindelheimer Str. 
 35. Diesmal mit Vortrag über Bremsen.\nhttps://touren-termine.adfc.de/rad
 veranstaltung/114816-adfcstammtisch-vortrag-bremsen-codierung
DTEND:20241010T200000Z
DTSTAMP:20260419T155800Z
DTSTART:20241010T170000Z
LOCATION:Gasthaus Belfort\, Mindelheimer Straße 35\, 87600 Kaufbeuren
SEQUENCE:0
SUMMARY:ADFC-Stammtisch - Vortrag Bremsen - Codierung
UID:933c0df0-f0f2-4d61-afb7-bc1d58adc6f1
URL:https://touren-termine.adfc.de/radveranstaltung/114816-adfcstammtisch-
 vortrag-bremsen-codierung
END:VEVENT
END:VCALENDAR
