BEGIN:VCALENDAR
PRODID:-//github.com/rianjs/ical.net//NONSGML ical.net 4.0//EN
VERSION:2.0
BEGIN:VEVENT
DESCRIPTION:Wir fahren entlang eines alten Deiches und eines alten Postweg
 s quer durchs Land Wursten.\nWer möchte\, kann auf der Hälfte der Strecke
  ab Dorum mit der Bahn nach Hause fahren.\nhttps://touren-termine.adfc.de
 /radveranstaltung/147803-durch-die-wurster-nordseekuste
DTEND:20250606T180000Z
DTSTAMP:20260421T055317Z
DTSTART:20250606T130000Z
LOCATION:Rathaus\, Feuerweg 9\, 27639 Landkreis Cuxhaven
SEQUENCE:0
SUMMARY:Durch die Wurster Nordseeküste
UID:3d66c5b5-8bea-4ccf-a648-f667ee8a26ee
URL:https://touren-termine.adfc.de/radveranstaltung/147803-durch-die-wurst
 er-nordseekuste
END:VEVENT
END:VCALENDAR
