BEGIN:VCALENDAR
PRODID:-//github.com/rianjs/ical.net//NONSGML ical.net 4.0//EN
VERSION:2.0
BEGIN:VEVENT
DESCRIPTION:Die langsamen und gemütlichen Ausfahrten führen durch die Regi
 on rund um Hechthausen.\nhttps://touren-termine.adfc.de/radveranstaltung/
 152429-nachmittagstour-in-hechthausen
DTEND:20250901T143000Z
DTSTAMP:20260421T114721Z
DTSTART:20250901T113000Z
LOCATION:Engelstüvchen\, Mühlenstraße 2\, 21755 Landkreis Cuxhaven
SEQUENCE:0
SUMMARY:Nachmittagstour in Hechthausen
UID:9047399b-e483-42bd-b869-439493a75dc5
URL:https://touren-termine.adfc.de/radveranstaltung/152429-nachmittagstour
 -in-hechthausen
END:VEVENT
END:VCALENDAR
