BEGIN:VCALENDAR
PRODID:-//github.com/rianjs/ical.net//NONSGML ical.net 4.0//EN
VERSION:2.0
BEGIN:VEVENT
DESCRIPTION:Eine kleine Tour am 3. Advent.\nhttps://touren-termine.adfc.de
 /radveranstaltung/162503-adventstour
DTEND:20251214T140000Z
DTSTAMP:20260422T203107Z
DTSTART:20251214T100000Z
LOCATION:Kanzlers Weide 1\, 32423 Minden
SEQUENCE:0
SUMMARY:Advents-Tour
UID:76c2b81f-1d55-41d2-9657-9b7ee73c7eba
URL:https://touren-termine.adfc.de/radveranstaltung/162503-adventstour
END:VEVENT
END:VCALENDAR
