BEGIN:VCALENDAR
PRODID:-//github.com/rianjs/ical.net//NONSGML ical.net 4.0//EN
VERSION:2.0
BEGIN:VEVENT
DESCRIPTION:Eine schöne Tour entlang der Elbe zum Hamburger Fischmarkt.\nh
 ttps://touren-termine.adfc.de/radveranstaltung/185401-fahrrad-sucht-fisch
DTEND:20260628T080000Z
DTSTAMP:20260419T182024Z
DTSTART:20260628T040000Z
LOCATION:Rathausplatz\, 22880 Wedel
SEQUENCE:0
SUMMARY:Fahrrad sucht Fisch
UID:e921b2d8-c81d-4fbd-94dc-f778067acb9c
URL:https://touren-termine.adfc.de/radveranstaltung/185401-fahrrad-sucht-f
 isch
END:VEVENT
END:VCALENDAR
