BEGIN:VCALENDAR
PRODID:-//github.com/rianjs/ical.net//NONSGML ical.net 4.0//EN
VERSION:2.0
BEGIN:VEVENT
DESCRIPTION:Die Tour ist für Radler ohne Unterstützung und gemütlich fahre
 nde E-Biker\nDie Strecken werden je nach Wetterlage kurzfristig festgeleg
 t\nEinkehr unterwegs oder in Forchheim\nhttps://touren-termine.adfc.de/ra
 dveranstaltung/113289-radler-ohne-unterstutzung-und-ebiker
DTEND:20240912T150000Z
DTSTAMP:20260421T102707Z
DTSTART:20240912T120000Z
LOCATION:Nürnberger Tor\, 91301 Forchheim
SEQUENCE:0
SUMMARY:Radler ohne Unterstützung und E-Biker
UID:47f4a496-e302-4c92-b0b8-5f1abb25b2dc
URL:https://touren-termine.adfc.de/radveranstaltung/113289-radler-ohne-unt
 erstutzung-und-ebiker
END:VEVENT
END:VCALENDAR
