BEGIN:VCALENDAR
PRODID:-//github.com/rianjs/ical.net//NONSGML ical.net 4.0//EN
VERSION:2.0
BEGIN:VEVENT
DESCRIPTION:Wir codieren Fahrräder und Zubehör mit dem EIN Code. Die Codie
 rung findet zwischen 12 und 16 Uhr statt. codierung.adfc-siegen.de\, bewa
 chter Fahhradstellplatz\nhttps://touren-termine.adfc.de/radveranstaltung/
 197484-brotmarkt-codierung-infostand
DTEND:20261004T140000Z
DTSTAMP:20260423T030401Z
DTSTART:20261004T100000Z
LOCATION:Lehrerparkplatz Johannes Althusius Gymnasium\, Höhe Poststraße 42
 \, 57319 Bad Berleburg
SEQUENCE:0
SUMMARY:Brotmarkt: Codierung\, Infostand
UID:ca4c42f3-1f48-4904-89f6-154eef368a74
URL:https://touren-termine.adfc.de/radveranstaltung/197484-brotmarkt-codie
 rung-infostand
END:VEVENT
END:VCALENDAR
