BEGIN:VCALENDAR
PRODID:-//github.com/rianjs/ical.net//NONSGML ical.net 4.0//EN
VERSION:2.0
BEGIN:VEVENT
DESCRIPTION:Informationsveranstaltung:\nMit einer Temporeduzierung für den
  Autoverkehr werden die Anwohner von Lärmemissionen und Luftschadstoffen 
 entlastet.\nhttps://touren-termine.adfc.de/radveranstaltung/174942-tempo-
 30-in-bochum-mehr-sicherheit-weniger-larm
DTEND:20251210T200000Z
DTSTAMP:20260420T115926Z
DTSTART:20251210T170000Z
LOCATION:Stühmeyerstraße 33\, 44787 Bochum
SEQUENCE:0
SUMMARY:Tempo 30 in Bochum: Mehr Sicherheit\, weniger Lärm!
UID:95b2cc60-2fac-4197-af69-6ee0a485076e
URL:https://touren-termine.adfc.de/radveranstaltung/174942-tempo-30-in-boc
 hum-mehr-sicherheit-weniger-larm
END:VEVENT
END:VCALENDAR
