BEGIN:VCALENDAR
PRODID:-//github.com/rianjs/ical.net//NONSGML ical.net 4.0//EN
VERSION:2.0
BEGIN:VEVENT
DESCRIPTION:Fahrsicherheitstraining in Marktoberdorf für Offene Behinderte
 n Arbeit Ostallgäu.\nAnmeldung nur über die OBA Ostallgäu (Loredana Murgi
 a)\nhttps://touren-termine.adfc.de/radveranstaltung/198085-fahrsicherheit
 straining-1-oba-ostallgau-in-mod
DTEND:20260521T171500Z
DTSTAMP:20260419T154958Z
DTSTART:20260521T141500Z
LOCATION:Wertachtal-Werkstätten\, Dieselstraße\, 87616 Marktoberdorf
SEQUENCE:0
SUMMARY:Fahrsicherheitstraining 1 - OBA Ostallgäu in MOD
UID:bf4b91d0-a6f6-4e4d-bba8-f59439837a92
URL:https://touren-termine.adfc.de/radveranstaltung/198085-fahrsicherheits
 training-1-oba-ostallgau-in-mod
END:VEVENT
END:VCALENDAR
