BEGIN:VCALENDAR
PRODID:-//github.com/rianjs/ical.net//NONSGML ical.net 4.0//EN
VERSION:2.0
BEGIN:VEVENT
DESCRIPTION:Von Porz am rechtsrheinischen Rheinufer zum Café an der Oberma
 rspforte und linksrheinisch wieder zurück nach Porz. Highlight ist die de
 nkmalgeschütze Einrichtung des Café's.\nhttps://touren-termine.adfc.de/ra
 dveranstaltung/143926-kaffeehaustour-zum-cafe-janssen-by-fassbender
DTEND:20250110T163000Z
DTSTAMP:20260420T141651Z
DTSTART:20250110T123000Z
LOCATION:Porzer Rathhaustreppe\, 51143 Köln
SEQUENCE:0
SUMMARY:Kaffeehaus-Tour  /  zum Café JANSSEN by Fassbender
UID:ecc1569c-f2eb-4e1d-876c-44bf4986d9a6
URL:https://touren-termine.adfc.de/radveranstaltung/143926-kaffeehaustour-
 zum-cafe-janssen-by-fassbender
END:VEVENT
END:VCALENDAR
