BEGIN:VCALENDAR
PRODID:-//github.com/rianjs/ical.net//NONSGML ical.net 4.0//EN
VERSION:2.0
BEGIN:VEVENT
DESCRIPTION:Niemand ist perfekt\, das Radwegesystem in Cuxhaven schon gar 
 nicht!\nWir unterhalten uns über alle Dinge rund ums Fahrrad und nehmen W
 ünsche und Anregungen an.\nhttps://touren-termine.adfc.de/radveranstaltun
 g/142241-kaffeestunde
DTEND:20250317T160000Z
DTSTAMP:20260421T021510Z
DTSTART:20250317T140000Z
LOCATION:Bürgerbahnhof\, Am Bahnhof 1\, 27472 Cuxhaven
SEQUENCE:0
SUMMARY:Kaffeestunde
UID:3733358a-2d9d-4a77-9ceb-a4ff9f9e46c4
URL:https://touren-termine.adfc.de/radveranstaltung/142241-kaffeestunde
END:VEVENT
END:VCALENDAR
