BEGIN:VCALENDAR
PRODID:-//github.com/rianjs/ical.net//NONSGML ical.net 4.0//EN
VERSION:2.0
BEGIN:VEVENT
DESCRIPTION:Im Rahmen der Aktion STADTRADELN 2023 laden die Senatsverwaltu
 ng für UMVK zusammen mit dem rbb 88.8 und dem ADFC Berlin zu einer geführ
 ten Radtour mit Juliane Schumacher (Radelmädchen) ein.\nhttps://touren-te
 rmine.adfc.de/radveranstaltung/102117-stadtradelnradtour-mit-juliane-schu
 macher
DTEND:20230618T120000Z
DTSTAMP:20260424T173350Z
DTSTART:20230618T080000Z
LOCATION:Hufeisensiedlung\, Fritz-Reuter-Allee 45\, 12359 Berlin
SEQUENCE:0
SUMMARY:STADTRADELN-Radtour mit Juliane Schumacher
UID:827812ab-49f3-40c6-87f1-2f51aee59a50
URL:https://touren-termine.adfc.de/radveranstaltung/102117-stadtradelnradt
 our-mit-juliane-schumacher
END:VEVENT
END:VCALENDAR
