BEGIN:VCALENDAR
PRODID:-//github.com/rianjs/ical.net//NONSGML ical.net 4.0//EN
VERSION:2.0
BEGIN:VEVENT
DESCRIPTION:#Anmeldung erforderlich#\nWir fahren an idyllischen kleinen Fl
 ussläufen sowie dem Elbeseitenkanal entlang nach Lüneburg\nhttps://touren
 -termine.adfc.de/radveranstaltung/101902-an-ilmenau-neetze-elbeseitenkana
 l-nach-luneburg
DTEND:20230617T150000Z
DTSTAMP:20260420T233330Z
DTSTART:20230617T070000Z
LOCATION:Liegewiese im Eichtalpark mit ovaler Skulptur\, 22041 Hamburg\, W
 andsbek
SEQUENCE:0
SUMMARY:An Ilmenau\, Neetze & Elbeseitenkanal nach Lüneburg
UID:baffa4cb-3011-4480-b6c2-d9cfb04660c9
URL:https://touren-termine.adfc.de/radveranstaltung/101902-an-ilmenau-neet
 ze-elbeseitenkanal-nach-luneburg
END:VEVENT
END:VCALENDAR
