BEGIN:VCALENDAR
PRODID:-//github.com/rianjs/ical.net//NONSGML ical.net 4.0//EN
VERSION:2.0
BEGIN:VEVENT
DESCRIPTION:Eine barockes Wasserschloss mit einer wunderbaren Parkanlage. 
 Es ist eine schone Tour und ist sehr gut zu fahren.\nhttps://touren-termi
 ne.adfc.de/radveranstaltung/176839-zum-schloss-nordkirchen
DTEND:20260613T150000Z
DTSTAMP:20260421T114555Z
DTSTART:20260613T080000Z
LOCATION:Klinikzentrum Nord\, Schützenstr./Beethovenstr.\, 44147 Dortmund
SEQUENCE:0
SUMMARY:Zum Schloss Nordkirchen
UID:adfc8d05-9fad-4409-a674-df8f578064f4
URL:https://touren-termine.adfc.de/radveranstaltung/176839-zum-schloss-nor
 dkirchen
END:VEVENT
END:VCALENDAR
