BEGIN:VCALENDAR
PRODID:-//github.com/rianjs/ical.net//NONSGML ical.net 4.0//EN
VERSION:2.0
BEGIN:VEVENT
DESCRIPTION:Der ADFC Hamburg bietet ein offenes Fahrrad-Codieren für Inter
 essierte beim Fahrradaktionstag im Harbuger Binnenhafen an.\nhttps://tour
 en-termine.adfc.de/radveranstaltung/171297-adfc-beim-fahrradaktionstag-in
 -harburg
DTEND:20250918T170000Z
DTSTAMP:20260420T231942Z
DTSTART:20250918T093000Z
LOCATION:Kanalplatz\, 21079 Hamburg
SEQUENCE:0
SUMMARY:ADFC beim Fahrradaktionstag in Harburg
UID:a0b72281-8580-4ca7-b81e-aabbd1233297
URL:https://touren-termine.adfc.de/radveranstaltung/171297-adfc-beim-fahrr
 adaktionstag-in-harburg
END:VEVENT
END:VCALENDAR
