BEGIN:VCALENDAR
PRODID:-//github.com/rianjs/ical.net//NONSGML ical.net 4.0//EN
VERSION:2.0
BEGIN:VEVENT
DESCRIPTION:Eine Runde durch das östliche Umland von Berlin.\nhttps://tour
 en-termine.adfc.de/radveranstaltung/198043-fischbrotchen-in-klein-wall
DTEND:20260507T150000Z
DTSTAMP:20260421T201244Z
DTSTART:20260507T080000Z
LOCATION:S-Bhf. Köpenick\, Ausgang Stellingdamm\, 12555 Berlin\, Köpenick
SEQUENCE:0
SUMMARY:Fischbrötchen in Klein Wall
UID:6cddbcb6-9b02-4349-9e1e-68f45ed2c964
URL:https://touren-termine.adfc.de/radveranstaltung/198043-fischbrotchen-i
 n-klein-wall
END:VEVENT
END:VCALENDAR
