BEGIN:VCALENDAR
PRODID:-//github.com/rianjs/ical.net//NONSGML ical.net 4.0//EN
VERSION:2.0
BEGIN:VEVENT
DESCRIPTION:Wir beschäftigen uns mit der Verkehrsplanung im Bezirk Mitte u
 nd setzten uns dabei für den Radverkehr ein.\nhttps://touren-termine.adfc
 .de/radveranstaltung/100094-bezirksgruppe-mitte
DTEND:20231009T190000Z
DTSTAMP:20260420T231121Z
DTSTART:20231009T173000Z
LOCATION:Koppel 34-36\, 20099 Hamburg
SEQUENCE:0
SUMMARY:Bezirksgruppe Mitte
UID:d0ce6b7f-9c4c-4a66-bbd2-8c75974dab63
URL:https://touren-termine.adfc.de/radveranstaltung/100094-bezirksgruppe-m
 itte
END:VEVENT
END:VCALENDAR
